BEGIN:VCALENDAR
VERSION:2.0
PRODID:-//Philadelphia - ECPv6.15.20//NONSGML v1.0//EN
CALSCALE:GREGORIAN
METHOD:PUBLISH
X-WR-CALNAME:Philadelphia
X-ORIGINAL-URL:https://philly.cisvusa.org
X-WR-CALDESC:Events for Philadelphia
REFRESH-INTERVAL;VALUE=DURATION:PT1H
X-Robots-Tag:noindex
X-PUBLISHED-TTL:PT1H
BEGIN:VTIMEZONE
TZID:America/New_York
BEGIN:DAYLIGHT
TZOFFSETFROM:-0500
TZOFFSETTO:-0400
TZNAME:EDT
DTSTART:20230312T070000
END:DAYLIGHT
BEGIN:STANDARD
TZOFFSETFROM:-0400
TZOFFSETTO:-0500
TZNAME:EST
DTSTART:20231105T060000
END:STANDARD
BEGIN:DAYLIGHT
TZOFFSETFROM:-0500
TZOFFSETTO:-0400
TZNAME:EDT
DTSTART:20240310T070000
END:DAYLIGHT
BEGIN:STANDARD
TZOFFSETFROM:-0400
TZOFFSETTO:-0500
TZNAME:EST
DTSTART:20241103T060000
END:STANDARD
BEGIN:DAYLIGHT
TZOFFSETFROM:-0500
TZOFFSETTO:-0400
TZNAME:EDT
DTSTART:20250309T070000
END:DAYLIGHT
BEGIN:STANDARD
TZOFFSETFROM:-0400
TZOFFSETTO:-0500
TZNAME:EST
DTSTART:20251102T060000
END:STANDARD
END:VTIMEZONE
BEGIN:VEVENT
DTSTART;TZID=America/New_York:20240224T130000
DTEND;TZID=America/New_York:20240224T143000
DTSTAMP:20260421T005716
CREATED:20240220T231811Z
LAST-MODIFIED:20240220T232636Z
UID:10000109-1708779600-1708785000@philly.cisvusa.org
SUMMARY:7th Ward Tribute Walking Tour
DESCRIPTION:Join us for a captivating guided tour through Philadelphia’s historic 7th Ward\, spanning from Sixth Street to 23rd Street and from Spruce Street to South Street. This area\, important to the Underground Railroad and the Great Migration\, was the epicenter of Black Philadelphia in the 19th century. Discover the enduring legacy of influential figures such as Octavius Catto\, Fanny Jackson Coppin\, and W.E.B. Du Bois. \nDon’t forget to RSVP to let us know how many people are excited for this opportunity! \nWe will meet at Mother Bethel Church at 419 6th St\, Philadelphia before the tour starts at 1pm. Please arrive at least 15 minutes early for classic CISV energizers led by our awesome JBs crew! \nThe tour is just over 1 hour and takes place outdoors so bundle up and bring your comfortable walking shoes! There will be questions along the way so make sure to equipped yourself with knowledge. This 19-minute documentary is a good introduction to W.E.B. Du Bois and his study: A Legacy of Courage: W.E.B. Du Bois and The Philadelphia Negro – YouTube \nWe will gather again inside Mother Bethel Church after the tour to share our thoughts of the experience. \nThis tour is free\, offered courtesy of the 7th Ward Tribute project. If you are able\, we kindly suggest a donation of $5 to support their efforts. You can either bring cash or venmo @CISV-Philly. See you there!
URL:https://philly.cisvusa.org/event/7th-ward-tribute-walking-tour/
LOCATION:Mother Bethel Church\, 419 6th St\, Philadelphia\, PA\, 19147\, United States
ATTACH;FMTTYPE=image/jpeg:https://philly.cisvusa.org/wp-content/uploads/sites/12/2024/02/web_du_bois_mural.jpeg
END:VEVENT
END:VCALENDAR