BEGIN:VCALENDAR
VERSION:2.0
PRODID:-//Philadelphia - ECPv6.15.20//NONSGML v1.0//EN
CALSCALE:GREGORIAN
METHOD:PUBLISH
X-WR-CALNAME:Philadelphia
X-ORIGINAL-URL:https://philly.cisvusa.org
X-WR-CALDESC:Events for Philadelphia
REFRESH-INTERVAL;VALUE=DURATION:PT1H
X-Robots-Tag:noindex
X-PUBLISHED-TTL:PT1H
BEGIN:VTIMEZONE
TZID:America/New_York
BEGIN:DAYLIGHT
TZOFFSETFROM:-0500
TZOFFSETTO:-0400
TZNAME:EDT
DTSTART:20220313T070000
END:DAYLIGHT
BEGIN:STANDARD
TZOFFSETFROM:-0400
TZOFFSETTO:-0500
TZNAME:EST
DTSTART:20221106T060000
END:STANDARD
BEGIN:DAYLIGHT
TZOFFSETFROM:-0500
TZOFFSETTO:-0400
TZNAME:EDT
DTSTART:20230312T070000
END:DAYLIGHT
BEGIN:STANDARD
TZOFFSETFROM:-0400
TZOFFSETTO:-0500
TZNAME:EST
DTSTART:20231105T060000
END:STANDARD
BEGIN:DAYLIGHT
TZOFFSETFROM:-0500
TZOFFSETTO:-0400
TZNAME:EDT
DTSTART:20240310T070000
END:DAYLIGHT
BEGIN:STANDARD
TZOFFSETFROM:-0400
TZOFFSETTO:-0500
TZNAME:EST
DTSTART:20241103T060000
END:STANDARD
END:VTIMEZONE
BEGIN:VEVENT
DTSTART;TZID=America/New_York:20231208T174500
DTEND;TZID=America/New_York:20231209T090000
DTSTAMP:20260420T003036
CREATED:20231204T160034Z
LAST-MODIFIED:20231204T164345Z
UID:10000067-1702057500-1702112400@philly.cisvusa.org
SUMMARY:Cookie-a-thon!
DESCRIPTION:  \nDon’t miss this long time favorite tradition! \n When: Friday\, December 8th\, arrive 5:45 – 6:15 pm to Saturday 9th\, 8:30 – 9 am\n\n Where: Jenkintown Presbyterian Church\, 444 York Rd\, Jenkintown\, PA 19046. Entrance is on Vista road. (Driving north on Old York rd\, make your first right into Vista Rd right after the church.) \nJoin us for a heartwarming and fun-filled evening where kids will engage in baking delicious cookies to donate to a local charity\, participate in thrilling activities\, and enjoy a friendly white elephant gift exchange. Plus\, there’s pizza! \nRSVP \nHighlights of the Night: \nBake for a cause: Whip up batches of yummy cookies for a charitable cause. \nFun Activities: Engage in a variety of exciting activities. \nWhite Elephant Gift Exchange: Bring a small\, quirky gift (around $10) and get ready for laughs and surprises. \nDelicious Pizza Dinner: Complimentary pizza for all our junior bakers. \nSleepover Option Available! \nKids are welcome to stay overnight for a memorable sleepover experience. If they prefer not to\, pickup time is between 9:30 PM and 10:00 PM. \nWhat to Bring: \n$10 Donation: This covers pizza\, baking supplies\, and a contribution to our gracious hosts at the church. \nSleepover Essentials: If staying overnight\, don’t forget your sleeping bag\, mat\, pillow\, and blanket. \nLet’s make this a night to remember while giving back to our community! Looking forward to seeing you there. \n\nThe kids will also need chaperones at their event. When you rsvp\, please make sure you specify if you would like to attend the social or chaperone. Sabine’s home is a 4 min walk to the church so we can take turns chaperoning if everyone wants to attend the social.\n\nRSVP
URL:https://philly.cisvusa.org/event/cookie-a-thon-friday-december-8th-6pm/
LOCATION:Grace Presbyterian Church\, 444 Old York Rd\, Jenkintown\, PA\, 19046\, United States
ATTACH;FMTTYPE=image/jpeg:https://philly.cisvusa.org/wp-content/uploads/sites/12/2022/06/IMG_5950-2.jpg
END:VEVENT
END:VCALENDAR