BEGIN:VCALENDAR
VERSION:2.0
PRODID:-//Philadelphia - ECPv6.15.20//NONSGML v1.0//EN
CALSCALE:GREGORIAN
METHOD:PUBLISH
X-WR-CALNAME:Philadelphia
X-ORIGINAL-URL:https://philly.cisvusa.org
X-WR-CALDESC:Events for Philadelphia
REFRESH-INTERVAL;VALUE=DURATION:PT1H
X-Robots-Tag:noindex
X-PUBLISHED-TTL:PT1H
BEGIN:VTIMEZONE
TZID:America/New_York
BEGIN:DAYLIGHT
TZOFFSETFROM:-0500
TZOFFSETTO:-0400
TZNAME:EDT
DTSTART:20230312T070000
END:DAYLIGHT
BEGIN:STANDARD
TZOFFSETFROM:-0400
TZOFFSETTO:-0500
TZNAME:EST
DTSTART:20231105T060000
END:STANDARD
BEGIN:DAYLIGHT
TZOFFSETFROM:-0500
TZOFFSETTO:-0400
TZNAME:EDT
DTSTART:20240310T070000
END:DAYLIGHT
BEGIN:STANDARD
TZOFFSETFROM:-0400
TZOFFSETTO:-0500
TZNAME:EST
DTSTART:20241103T060000
END:STANDARD
BEGIN:DAYLIGHT
TZOFFSETFROM:-0500
TZOFFSETTO:-0400
TZNAME:EDT
DTSTART:20250309T070000
END:DAYLIGHT
BEGIN:STANDARD
TZOFFSETFROM:-0400
TZOFFSETTO:-0500
TZNAME:EST
DTSTART:20251102T060000
END:STANDARD
END:VTIMEZONE
BEGIN:VEVENT
DTSTART;TZID=America/New_York:20240115T100000
DTEND;TZID=America/New_York:20240115T130000
DTSTAMP:20260421T231357
CREATED:20221216T174938Z
LAST-MODIFIED:20231204T165531Z
UID:10000035-1705312800-1705323600@philly.cisvusa.org
SUMMARY:MLK service project
DESCRIPTION:JB is excited to collaborate once more with Friends of Cobbs Creek Park for a meaningful service event in January\, honoring Martin Luther King Jr. Day. Together\, we will engage in a park cleanup initiative\, contributing to the preservation of our local green space. Stay tuned for the announcement of the specific date. Let’s come together to make a positive impact in our community! Feel free to rsvp here to let us know you are going\, but make sure you also email the organizer\, Greg Seidel\, so he can plan enough equipment for everybody. (seidelg44@gmail.com) \nFull details below. Feel free to email Greg with any questions. \nCobbs Creek Cleanup at Mount Moriah Cemetery: MLK Day January 2024 \nSpecific Date TBD!! \n10am-1pm \nIf you need to leave early it’s no problem\, it’s flexible. \n  \nMeet at the entrance to Mount Moriah Cemetery on Cobbs Creek Parkway. There is a gravel lot at the entrance. \nMap with location (click on link):  Cobbs Creek Pkwy & Mt Moriah Cemetery (Map) \nFor GPS or to find public transportation options\, use address: \n1004 Cobbs Creek Pkwy\, Yeadon\, PA 19050 \nWe will be cleaning up along the Cobbs Creek Trail and surrounding area. Trash removal from trail\, creek\, and surrounding woods preserves this area for all to enjoy and prevents trash from traveling elsewhere in the watershed area. \nI will have some waders on hand\, for those who want to venture into the Creek\, as long as it’s not iced over. \nBring nothing (except your enthusiasm!). We will provide gloves and equipment like trash bags\, buckets\, and some pickers. Dress warmly! Waterproof shoes are nice if going on the creek banks but on the trail areas it’s dry.
URL:https://philly.cisvusa.org/event/mlk-service-project/
LOCATION:Cobbs Creek park\, 1004 Cobbs Creek Pkwy\, Yeadon\, PA\, 19050
ATTACH;FMTTYPE=image/jpeg:https://philly.cisvusa.org/wp-content/uploads/sites/12/2020/08/MLK21.jpg
END:VEVENT
END:VCALENDAR