BEGIN:VCALENDAR
VERSION:2.0
PRODID:-//Philadelphia - ECPv6.15.20//NONSGML v1.0//EN
CALSCALE:GREGORIAN
METHOD:PUBLISH
X-WR-CALNAME:Philadelphia
X-ORIGINAL-URL:https://philly.cisvusa.org
X-WR-CALDESC:Events for Philadelphia
REFRESH-INTERVAL;VALUE=DURATION:PT1H
X-Robots-Tag:noindex
X-PUBLISHED-TTL:PT1H
BEGIN:VTIMEZONE
TZID:America/New_York
BEGIN:DAYLIGHT
TZOFFSETFROM:-0500
TZOFFSETTO:-0400
TZNAME:EDT
DTSTART:20230312T070000
END:DAYLIGHT
BEGIN:STANDARD
TZOFFSETFROM:-0400
TZOFFSETTO:-0500
TZNAME:EST
DTSTART:20231105T060000
END:STANDARD
BEGIN:DAYLIGHT
TZOFFSETFROM:-0500
TZOFFSETTO:-0400
TZNAME:EDT
DTSTART:20240310T070000
END:DAYLIGHT
BEGIN:STANDARD
TZOFFSETFROM:-0400
TZOFFSETTO:-0500
TZNAME:EST
DTSTART:20241103T060000
END:STANDARD
BEGIN:DAYLIGHT
TZOFFSETFROM:-0500
TZOFFSETTO:-0400
TZNAME:EDT
DTSTART:20250309T070000
END:DAYLIGHT
BEGIN:STANDARD
TZOFFSETFROM:-0400
TZOFFSETTO:-0500
TZNAME:EST
DTSTART:20251102T060000
END:STANDARD
END:VTIMEZONE
BEGIN:VEVENT
DTSTART;TZID=America/New_York:20240426T190000
DTEND;TZID=America/New_York:20240428T110000
DTSTAMP:20260423T074030
CREATED:20231108T225026Z
LAST-MODIFIED:20240401T143918Z
UID:10000063-1714158000-1714302000@philly.cisvusa.org
SUMMARY:2024 CISV MidAtlantic Regional Minicamp - Ahoy Matey!
DESCRIPTION:CISV Washington DC is organizing the Regional Mini Camp (RMC). Join the Mid-Atlantic Region for one of our most anticipated events of the year! Regional minicamp is a chance to experience the CISV camp in a weekend setting with chapters from across the Mid-Atlantic. \nRMC is open to kids ages 10-18. \nThe RMC will take place at Camp Letts from Friday\, April 26th (7 pm) to Sunday 28th (11 am). \nCamp Letts Road Dining Hall Edgewater\, MD. \nPlease register and find more information HERE
URL:https://philly.cisvusa.org/event/regional-mini-camp-2/
LOCATION:Camp Letts Road Dining Hall Edgewater\, MD\, 4003 Camp Letts Rd\, Edgewater\, MD\, 21037
ATTACH;FMTTYPE=image/jpeg:https://philly.cisvusa.org/wp-content/uploads/sites/12/2023/03/20221029_091109-scaled.jpg
END:VEVENT
END:VCALENDAR