BEGIN:VCALENDAR
VERSION:2.0
PRODID:-//Philadelphia - ECPv6.15.20//NONSGML v1.0//EN
CALSCALE:GREGORIAN
METHOD:PUBLISH
X-WR-CALNAME:Philadelphia
X-ORIGINAL-URL:https://philly.cisvusa.org
X-WR-CALDESC:Events for Philadelphia
REFRESH-INTERVAL;VALUE=DURATION:PT1H
X-Robots-Tag:noindex
X-PUBLISHED-TTL:PT1H
BEGIN:VTIMEZONE
TZID:America/New_York
BEGIN:DAYLIGHT
TZOFFSETFROM:-0500
TZOFFSETTO:-0400
TZNAME:EDT
DTSTART:20230312T070000
END:DAYLIGHT
BEGIN:STANDARD
TZOFFSETFROM:-0400
TZOFFSETTO:-0500
TZNAME:EST
DTSTART:20231105T060000
END:STANDARD
BEGIN:DAYLIGHT
TZOFFSETFROM:-0500
TZOFFSETTO:-0400
TZNAME:EDT
DTSTART:20240310T070000
END:DAYLIGHT
BEGIN:STANDARD
TZOFFSETFROM:-0400
TZOFFSETTO:-0500
TZNAME:EST
DTSTART:20241103T060000
END:STANDARD
BEGIN:DAYLIGHT
TZOFFSETFROM:-0500
TZOFFSETTO:-0400
TZNAME:EDT
DTSTART:20250309T070000
END:DAYLIGHT
BEGIN:STANDARD
TZOFFSETFROM:-0400
TZOFFSETTO:-0500
TZNAME:EST
DTSTART:20251102T060000
END:STANDARD
END:VTIMEZONE
BEGIN:VEVENT
DTSTART;TZID=America/New_York:20241123T140000
DTEND;TZID=America/New_York:20241123T160000
DTSTAMP:20260422T191054
CREATED:20241108T185858Z
LAST-MODIFIED:20241108T185858Z
UID:10000137-1732370400-1732377600@philly.cisvusa.org
SUMMARY:2025 program announcement in person at Bala Cynwyd library
DESCRIPTION:We have made the selections for programs our delegates will be able to attend next summer. Please join us to learn about the programs picked for 2025 at the Bala Cynwyd Library \n 
URL:https://philly.cisvusa.org/event/2025-program-announcement-in-person-at-bala-cynwyd-library/
LOCATION:Bala Cynwyd Library\, 131 Old Lancaster Road\, Bala Cynwyd\, PA\, 19004\, United States
ATTACH;FMTTYPE=image/jpeg:https://philly.cisvusa.org/wp-content/uploads/sites/12/2024/11/signpost.jpg
END:VEVENT
END:VCALENDAR