BEGIN:VCALENDAR
VERSION:2.0
PRODID:-//Philadelphia - ECPv6.15.20//NONSGML v1.0//EN
CALSCALE:GREGORIAN
METHOD:PUBLISH
X-WR-CALNAME:Philadelphia
X-ORIGINAL-URL:https://philly.cisvusa.org
X-WR-CALDESC:Events for Philadelphia
REFRESH-INTERVAL;VALUE=DURATION:PT1H
X-Robots-Tag:noindex
X-PUBLISHED-TTL:PT1H
BEGIN:VTIMEZONE
TZID:America/New_York
BEGIN:DAYLIGHT
TZOFFSETFROM:-0500
TZOFFSETTO:-0400
TZNAME:EDT
DTSTART:20220313T070000
END:DAYLIGHT
BEGIN:STANDARD
TZOFFSETFROM:-0400
TZOFFSETTO:-0500
TZNAME:EST
DTSTART:20221106T060000
END:STANDARD
BEGIN:DAYLIGHT
TZOFFSETFROM:-0500
TZOFFSETTO:-0400
TZNAME:EDT
DTSTART:20230312T070000
END:DAYLIGHT
BEGIN:STANDARD
TZOFFSETFROM:-0400
TZOFFSETTO:-0500
TZNAME:EST
DTSTART:20231105T060000
END:STANDARD
BEGIN:DAYLIGHT
TZOFFSETFROM:-0500
TZOFFSETTO:-0400
TZNAME:EDT
DTSTART:20240310T070000
END:DAYLIGHT
BEGIN:STANDARD
TZOFFSETFROM:-0400
TZOFFSETTO:-0500
TZNAME:EST
DTSTART:20241103T060000
END:STANDARD
END:VTIMEZONE
BEGIN:VEVENT
DTSTART;TZID=America/New_York:20230909T153000
DTEND;TZID=America/New_York:20230909T190000
DTSTAMP:20260422T205444
CREATED:20230813T182404Z
LAST-MODIFIED:20230901T142730Z
UID:10000044-1694273400-1694286000@philly.cisvusa.org
SUMMARY:Chapter Retreat
DESCRIPTION:Chapter retreat is for every adult and kid interested in contributing to our chapter remaining strong\, regardless of whether you have an assigned role in the chapter or not\, regardless of how experienced you are with CISV. \nPlease bring a camping chair if you have one\, in case it is needed. \nMeetings from 3:30 – 5:30 pm \nOptional Potluck from 5:30 – 7 pm \nPlease RSVP  to let us know you are planning to attend
URL:https://philly.cisvusa.org/event/chapter-retreat-2/
LOCATION:429 Vernon Rd Jenkintown PA 19046\, 429 Vernon Rd\, Jenkintown\, PA\, 19046
ATTACH;FMTTYPE=image/jpeg:https://philly.cisvusa.org/wp-content/uploads/sites/12/2023/05/IMG_9961-scaled.jpg
GEO:40.1003587;-75.1228405
X-APPLE-STRUCTURED-LOCATION;VALUE=URI;X-ADDRESS=429 Vernon Rd Jenkintown PA 19046 429 Vernon Rd Jenkintown PA 19046;X-APPLE-RADIUS=500;X-TITLE=429 Vernon Rd:geo:-75.1228405,40.1003587
END:VEVENT
BEGIN:VEVENT
DTSTART;TZID=America/New_York:20230324T183000
DTEND;TZID=America/New_York:20230324T210000
DTSTAMP:20260422T205444
CREATED:20221216T193922Z
LAST-MODIFIED:20230320T221703Z
UID:10000037-1679682600-1679691600@philly.cisvusa.org
SUMMARY:Junior Branch event\, Friday March 24th\, 6:30-9pm
DESCRIPTION:The Junior Board will be running a classic CISV activity and having ‘lullabies.’ At a camp\, ‘lullabies’ are when we sing songs such as ‘Let It Be’ and ‘Wonderwall’ before going to bed\, and so at this activity\, we will be having ‘lullabies’ before you go home. It’s a great event for anyone new to CISV and interested in getting a feel for what the organization does\, so we highly recommend attending if you are new! \nKids should eat before being dropped off. \nParents have the option to hang out at a local restaurant (after our chaperone needs are met)
URL:https://philly.cisvusa.org/event/junior-branch-event-sunday-march-26th-1-4pm/
LOCATION:429 Vernon Rd Jenkintown PA 19046\, 429 Vernon Rd\, Jenkintown\, PA\, 19046
ATTACH;FMTTYPE=image/jpeg:https://philly.cisvusa.org/wp-content/uploads/sites/12/2022/06/IMG_5781-2.jpg
GEO:40.1003587;-75.1228405
X-APPLE-STRUCTURED-LOCATION;VALUE=URI;X-ADDRESS=429 Vernon Rd Jenkintown PA 19046 429 Vernon Rd Jenkintown PA 19046;X-APPLE-RADIUS=500;X-TITLE=429 Vernon Rd:geo:-75.1228405,40.1003587
END:VEVENT
END:VCALENDAR