BEGIN:VCALENDAR
VERSION:2.0
PRODID:-//Philadelphia - ECPv6.15.20//NONSGML v1.0//EN
CALSCALE:GREGORIAN
METHOD:PUBLISH
X-WR-CALNAME:Philadelphia
X-ORIGINAL-URL:https://philly.cisvusa.org
X-WR-CALDESC:Events for Philadelphia
REFRESH-INTERVAL;VALUE=DURATION:PT1H
X-Robots-Tag:noindex
X-PUBLISHED-TTL:PT1H
BEGIN:VTIMEZONE
TZID:America/New_York
BEGIN:DAYLIGHT
TZOFFSETFROM:-0500
TZOFFSETTO:-0400
TZNAME:EDT
DTSTART:20220313T070000
END:DAYLIGHT
BEGIN:STANDARD
TZOFFSETFROM:-0400
TZOFFSETTO:-0500
TZNAME:EST
DTSTART:20221106T060000
END:STANDARD
BEGIN:DAYLIGHT
TZOFFSETFROM:-0500
TZOFFSETTO:-0400
TZNAME:EDT
DTSTART:20230312T070000
END:DAYLIGHT
BEGIN:STANDARD
TZOFFSETFROM:-0400
TZOFFSETTO:-0500
TZNAME:EST
DTSTART:20231105T060000
END:STANDARD
BEGIN:DAYLIGHT
TZOFFSETFROM:-0500
TZOFFSETTO:-0400
TZNAME:EDT
DTSTART:20240310T070000
END:DAYLIGHT
BEGIN:STANDARD
TZOFFSETFROM:-0400
TZOFFSETTO:-0500
TZNAME:EST
DTSTART:20241103T060000
END:STANDARD
END:VTIMEZONE
BEGIN:VEVENT
DTSTART;TZID=America/New_York:20231112T150000
DTEND;TZID=America/New_York:20231112T170000
DTSTAMP:20260420T022351
CREATED:20231029T211157Z
LAST-MODIFIED:20231029T211157Z
UID:10000057-1699801200-1699808400@philly.cisvusa.org
SUMMARY:2024 program reveal and JB activity
DESCRIPTION:Family friendly event. Please bring a snack to share. \nJB will lead an activity\, and we will also reveal where our delegates will travel in 2024! \nNew and returning families will have the opportunity to get information on our different local and international programs.
URL:https://philly.cisvusa.org/event/2024-program-reveal-and-jb-activity/
LOCATION:2809 Apple Valley Lane\, 2809 Apple Valley Lane\, Audubon\, Pennsylvania\, 19403
ATTACH;FMTTYPE=image/jpeg:https://philly.cisvusa.org/wp-content/uploads/sites/12/2019/10/cisv-reveal.jpg
GEO:40.1200812;-75.4341769
X-APPLE-STRUCTURED-LOCATION;VALUE=URI;X-ADDRESS=2809 Apple Valley Lane 2809 Apple Valley Lane Audubon Pennsylvania 19403;X-APPLE-RADIUS=500;X-TITLE=2809 Apple Valley Lane:geo:-75.4341769,40.1200812
END:VEVENT
BEGIN:VEVENT
DTSTART;TZID=America/New_York:20230930T140000
DTEND;TZID=America/New_York:20230930T160000
DTSTAMP:20260420T022351
CREATED:20230917T222733Z
LAST-MODIFIED:20230917T223129Z
UID:10000053-1696082400-1696089600@philly.cisvusa.org
SUMMARY:Junior Branch Activity
DESCRIPTION:Come and see what CISV is all about\, participating in a typical CISV activity led by our awesome JB board! \nAnyone age 10 and up is welcome to attend. Bring your friends to introduce them to CISV!
URL:https://philly.cisvusa.org/event/junior-branch-activity/
LOCATION:2809 Apple Valley Lane\, 2809 Apple Valley Lane\, Audubon\, Pennsylvania\, 19403
ATTACH;FMTTYPE=image/jpeg:https://philly.cisvusa.org/wp-content/uploads/sites/12/2023/05/IMG_9968-scaled-e1694989848800.jpg
GEO:40.1200812;-75.4341769
X-APPLE-STRUCTURED-LOCATION;VALUE=URI;X-ADDRESS=2809 Apple Valley Lane 2809 Apple Valley Lane Audubon Pennsylvania 19403;X-APPLE-RADIUS=500;X-TITLE=2809 Apple Valley Lane:geo:-75.4341769,40.1200812
END:VEVENT
END:VCALENDAR