BEGIN:VCALENDAR
VERSION:2.0
PRODID:-//Philadelphia - ECPv6.15.20//NONSGML v1.0//EN
CALSCALE:GREGORIAN
METHOD:PUBLISH
X-WR-CALNAME:Philadelphia
X-ORIGINAL-URL:https://philly.cisvusa.org
X-WR-CALDESC:Events for Philadelphia
REFRESH-INTERVAL;VALUE=DURATION:PT1H
X-Robots-Tag:noindex
X-PUBLISHED-TTL:PT1H
BEGIN:VTIMEZONE
TZID:America/New_York
BEGIN:DAYLIGHT
TZOFFSETFROM:-0500
TZOFFSETTO:-0400
TZNAME:EDT
DTSTART:20230312T070000
END:DAYLIGHT
BEGIN:STANDARD
TZOFFSETFROM:-0400
TZOFFSETTO:-0500
TZNAME:EST
DTSTART:20231105T060000
END:STANDARD
BEGIN:DAYLIGHT
TZOFFSETFROM:-0500
TZOFFSETTO:-0400
TZNAME:EDT
DTSTART:20240310T070000
END:DAYLIGHT
BEGIN:STANDARD
TZOFFSETFROM:-0400
TZOFFSETTO:-0500
TZNAME:EST
DTSTART:20241103T060000
END:STANDARD
BEGIN:DAYLIGHT
TZOFFSETFROM:-0500
TZOFFSETTO:-0400
TZNAME:EDT
DTSTART:20250309T070000
END:DAYLIGHT
BEGIN:STANDARD
TZOFFSETFROM:-0400
TZOFFSETTO:-0500
TZNAME:EST
DTSTART:20251102T060000
END:STANDARD
END:VTIMEZONE
BEGIN:VEVENT
DTSTART;TZID=America/New_York:20240407T140000
DTEND;TZID=America/New_York:20240407T160000
DTSTAMP:20260420T022502
CREATED:20240327T010554Z
LAST-MODIFIED:20240328T005040Z
UID:10000110-1712498400-1712505600@philly.cisvusa.org
SUMMARY:National Service Project
DESCRIPTION:Here comes National Service Project! Join us on the beautiful Sunday afternoon of April 7th from 2pm to 4pm for this special activity! Lead by our talented JBs\, we will navigate through many of the current world’s topics\, dive into meaningful discussions and learn more about what we can do to help the communities around us! \nLocation: 120 Victoria Sq\, Media\, PA \nTime: April 7th\, 2024 from 2-4pm \n 
URL:https://philly.cisvusa.org/event/national-service-project/
LOCATION:120 Victoria Sq\, Media\, PA\, 120 Victoria Sq\, Media\, United States
ATTACH;FMTTYPE=image/png:https://philly.cisvusa.org/wp-content/uploads/sites/12/2024/03/corporate_memphis.png
END:VEVENT
END:VCALENDAR