BEGIN:VCALENDAR
VERSION:2.0
PRODID:-//Philadelphia - ECPv6.15.20//NONSGML v1.0//EN
CALSCALE:GREGORIAN
METHOD:PUBLISH
X-WR-CALNAME:Philadelphia
X-ORIGINAL-URL:https://philly.cisvusa.org
X-WR-CALDESC:Events for Philadelphia
REFRESH-INTERVAL;VALUE=DURATION:PT1H
X-Robots-Tag:noindex
X-PUBLISHED-TTL:PT1H
BEGIN:VTIMEZONE
TZID:America/New_York
BEGIN:DAYLIGHT
TZOFFSETFROM:-0500
TZOFFSETTO:-0400
TZNAME:EDT
DTSTART:20250309T070000
END:DAYLIGHT
BEGIN:STANDARD
TZOFFSETFROM:-0400
TZOFFSETTO:-0500
TZNAME:EST
DTSTART:20251102T060000
END:STANDARD
BEGIN:DAYLIGHT
TZOFFSETFROM:-0500
TZOFFSETTO:-0400
TZNAME:EDT
DTSTART:20260308T070000
END:DAYLIGHT
BEGIN:STANDARD
TZOFFSETFROM:-0400
TZOFFSETTO:-0500
TZNAME:EST
DTSTART:20261101T060000
END:STANDARD
BEGIN:DAYLIGHT
TZOFFSETFROM:-0500
TZOFFSETTO:-0400
TZNAME:EDT
DTSTART:20270314T070000
END:DAYLIGHT
BEGIN:STANDARD
TZOFFSETFROM:-0400
TZOFFSETTO:-0500
TZNAME:EST
DTSTART:20271107T060000
END:STANDARD
END:VTIMEZONE
BEGIN:VEVENT
DTSTART;TZID=America/New_York:20260402T200000
DTEND;TZID=America/New_York:20260402T210000
DTSTAMP:20260420T121605
CREATED:20251108T154214Z
LAST-MODIFIED:20251108T154214Z
UID:10000193-1775160000-1775163600@philly.cisvusa.org
SUMMARY:Virtual Chapter Meeting
DESCRIPTION:All current volunteers/chairs & JB board members are encouraged to attend to debrief prior events\, plan for future events\, and facilitate the running of the Philly chapter. We alternate between in-person and virtual meetings each month. \nZoom option is available for all meetings but in person attendance is encouraged. \nIn Person Dates: \nJanuary 8 \nMarch 5 \nMay 7 \nZoom Only: \nDecember 4 \nFebruary 5 \nApril 2
URL:https://philly.cisvusa.org/event/virtual-chapter-meeting-10-5/
LOCATION:https://us06web.zoom.us/j/84425114013?pwd=olotnNI76fgrnZhbuBnfUKdTow0bmy.1
END:VEVENT
END:VCALENDAR