BEGIN:VCALENDAR
VERSION:2.0
PRODID:-//Philadelphia - ECPv6.15.20//NONSGML v1.0//EN
CALSCALE:GREGORIAN
METHOD:PUBLISH
X-WR-CALNAME:Philadelphia
X-ORIGINAL-URL:https://philly.cisvusa.org
X-WR-CALDESC:Events for Philadelphia
REFRESH-INTERVAL;VALUE=DURATION:PT1H
X-Robots-Tag:noindex
X-PUBLISHED-TTL:PT1H
BEGIN:VTIMEZONE
TZID:America/New_York
BEGIN:DAYLIGHT
TZOFFSETFROM:-0500
TZOFFSETTO:-0400
TZNAME:EDT
DTSTART:20250309T070000
END:DAYLIGHT
BEGIN:STANDARD
TZOFFSETFROM:-0400
TZOFFSETTO:-0500
TZNAME:EST
DTSTART:20251102T060000
END:STANDARD
BEGIN:DAYLIGHT
TZOFFSETFROM:-0500
TZOFFSETTO:-0400
TZNAME:EDT
DTSTART:20260308T070000
END:DAYLIGHT
BEGIN:STANDARD
TZOFFSETFROM:-0400
TZOFFSETTO:-0500
TZNAME:EST
DTSTART:20261101T060000
END:STANDARD
BEGIN:DAYLIGHT
TZOFFSETFROM:-0500
TZOFFSETTO:-0400
TZNAME:EDT
DTSTART:20270314T070000
END:DAYLIGHT
BEGIN:STANDARD
TZOFFSETFROM:-0400
TZOFFSETTO:-0500
TZNAME:EST
DTSTART:20271107T060000
END:STANDARD
END:VTIMEZONE
BEGIN:VEVENT
DTSTART;VALUE=DATE:20260321
DTEND;VALUE=DATE:20260322
DTSTAMP:20260422T105211
CREATED:20250821T150953Z
LAST-MODIFIED:20260203T145938Z
UID:10000182-1774051200-1774137599@philly.cisvusa.org
SUMMARY:Rescheduled 2026 MLK Day of Service: Cobbs Creek Park Cleanup Mosaic
DESCRIPTION:Every year we join up with the Cobbs Creek Park Ambassadors to honor Dr. Martin Luther King’s Day of Service by collecting trash at Cobbs Creek Park in West Philadelphia. This year\, due to the nutty winter weather\, this event got rescheduled to March 21st\, 9-11am. Afterwards we will head o HMasrt Food Court for lunch and debriefing.
URL:https://philly.cisvusa.org/event/2026-mlk-day-of-service-cobbs-creek-park-cleanup/
ATTACH;FMTTYPE=image/png:https://philly.cisvusa.org/wp-content/uploads/sites/12/2025/02/image-5-e1762555103327.png
END:VEVENT
END:VCALENDAR