BEGIN:VCALENDAR
VERSION:2.0
PRODID:-//Philadelphia - ECPv6.15.20//NONSGML v1.0//EN
CALSCALE:GREGORIAN
METHOD:PUBLISH
X-WR-CALNAME:Philadelphia
X-ORIGINAL-URL:https://philly.cisvusa.org
X-WR-CALDESC:Events for Philadelphia
REFRESH-INTERVAL;VALUE=DURATION:PT1H
X-Robots-Tag:noindex
X-PUBLISHED-TTL:PT1H
BEGIN:VTIMEZONE
TZID:America/New_York
BEGIN:DAYLIGHT
TZOFFSETFROM:-0500
TZOFFSETTO:-0400
TZNAME:EDT
DTSTART:20220313T070000
END:DAYLIGHT
BEGIN:STANDARD
TZOFFSETFROM:-0400
TZOFFSETTO:-0500
TZNAME:EST
DTSTART:20221106T060000
END:STANDARD
BEGIN:DAYLIGHT
TZOFFSETFROM:-0500
TZOFFSETTO:-0400
TZNAME:EDT
DTSTART:20230312T070000
END:DAYLIGHT
BEGIN:STANDARD
TZOFFSETFROM:-0400
TZOFFSETTO:-0500
TZNAME:EST
DTSTART:20231105T060000
END:STANDARD
BEGIN:DAYLIGHT
TZOFFSETFROM:-0500
TZOFFSETTO:-0400
TZNAME:EDT
DTSTART:20240310T070000
END:DAYLIGHT
BEGIN:STANDARD
TZOFFSETFROM:-0400
TZOFFSETTO:-0500
TZNAME:EST
DTSTART:20241103T060000
END:STANDARD
END:VTIMEZONE
BEGIN:VEVENT
DTSTART;TZID=America/New_York:20230506T070000
DTEND;TZID=America/New_York:20230506T130000
DTSTAMP:20260420T184107
CREATED:20230329T212925Z
LAST-MODIFIED:20230329T213249Z
UID:10000040-1683356400-1683378000@philly.cisvusa.org
SUMMARY:CISV Volunteer Event - Miles for Malawi 5k
DESCRIPTION:  \nPlease join us on Saturday\, May 6th\, for an exciting family-friendly morning in beautiful Smedley Park! \nWe will be joining forces with Pamoza International\, an organization that aims to better the lives of people in rural Malawi. Pamoza is run by CISV Philadelphia member Temwa Wright. \nPamoza is planning a Miles for Malawi 5K to raise funds\, and we can help either by volunteering or by signing up to run/walk. The race will be followed by activities where we will have the chance to learn about Pamoza and life in Malawi. Activities will include learning how to balance something on your head\, make a soccer ball\, drum a beat\, and even taste some Malawian food! \nDon’t miss this opportunity to: \n\nEnjoy the outdoors\nMeet friends and new people\nVolunteer for a worthy cause\nLearn about Malawi\n\nTo volunteer\, sign up here. \nIf you’d rather run or walk\, sign up here.
URL:https://philly.cisvusa.org/event/cisv-volunteer-event-miles-for-malawi-5k/
LOCATION:Smedley Park\, 20 Papermill Rd\, Springfield\, PA\, 19064\, Smedley Park\, 20 Papermill Rd\, Springfield\, PA\, 19064\, United States
CATEGORIES:JB Event
ATTACH;FMTTYPE=image/png:https://philly.cisvusa.org/wp-content/uploads/sites/12/2023/03/image.png
END:VEVENT
END:VCALENDAR