BEGIN:VCALENDAR
VERSION:2.0
PRODID:-//Philadelphia - ECPv6.15.20//NONSGML v1.0//EN
CALSCALE:GREGORIAN
METHOD:PUBLISH
X-WR-CALNAME:Philadelphia
X-ORIGINAL-URL:https://philly.cisvusa.org
X-WR-CALDESC:Events for Philadelphia
REFRESH-INTERVAL;VALUE=DURATION:PT1H
X-Robots-Tag:noindex
X-PUBLISHED-TTL:PT1H
BEGIN:VTIMEZONE
TZID:America/New_York
BEGIN:DAYLIGHT
TZOFFSETFROM:-0500
TZOFFSETTO:-0400
TZNAME:EDT
DTSTART:20240310T070000
END:DAYLIGHT
BEGIN:STANDARD
TZOFFSETFROM:-0400
TZOFFSETTO:-0500
TZNAME:EST
DTSTART:20241103T060000
END:STANDARD
BEGIN:DAYLIGHT
TZOFFSETFROM:-0500
TZOFFSETTO:-0400
TZNAME:EDT
DTSTART:20250309T070000
END:DAYLIGHT
BEGIN:STANDARD
TZOFFSETFROM:-0400
TZOFFSETTO:-0500
TZNAME:EST
DTSTART:20251102T060000
END:STANDARD
BEGIN:DAYLIGHT
TZOFFSETFROM:-0500
TZOFFSETTO:-0400
TZNAME:EDT
DTSTART:20260308T070000
END:DAYLIGHT
BEGIN:STANDARD
TZOFFSETFROM:-0400
TZOFFSETTO:-0500
TZNAME:EST
DTSTART:20261101T060000
END:STANDARD
END:VTIMEZONE
BEGIN:VEVENT
DTSTART;TZID=America/New_York:20250109T200000
DTEND;TZID=America/New_York:20250109T210000
DTSTAMP:20260423T021932
CREATED:20241229T144743Z
LAST-MODIFIED:20241229T144743Z
UID:10000119-1736452800-1736456400@philly.cisvusa.org
SUMMARY:Virtual Chapter Meeting
DESCRIPTION:Please join us on Zoom for our monthly chapter meetings the first Thursday of every month from 8-9pm (except Jan 2025\, when it happens the second Thursday). \nWe’ll be discussing the inner workings of CISV Philly\, volunteer opportunities\, upcoming events and more. All current volunteers\, chairs and JB Leadership are strongly encouraged to attend so we can stay on top of our chapters needs. \nAs always\, we thank you in advance for all you do and the time you put in to support our kids and our mission! \nJoin the Zoom at the link below:
URL:https://philly.cisvusa.org/event/virtual-chapter-meeting-9-2-2/
LOCATION:
END:VEVENT
BEGIN:VEVENT
DTSTART;TZID=America/New_York:20250120T090000
DTEND;TZID=America/New_York:20250120T110000
DTSTAMP:20260423T021932
CREATED:20250103T214202Z
LAST-MODIFIED:20250123T151226Z
UID:10000154-1737363600-1737370800@philly.cisvusa.org
SUMMARY:Day of Service at Cobbs Creek Park: Jan 5th\, 2025
DESCRIPTION:The originally scheduled service day event for Jan 20\, Mon (MLK Day)\, 9a – 11a\, was rescheduled due to weather to 9-11a on Saturday\, Jan 25th. \nThe JB is excited to again collaborate with Friends of Cobbs Creek Park for a meaningful service event in January\, honoring Martin Luther King Jr. Day. Together\, we will engage in a park cleanup initiative\, contributing to the preservation of our local green space. \nThere are still two locations at this new time. We would like CISV participants to try to all register for the same location. Our preferred location for 2025 is S 65th St & Cobbs Creek Pkwy\, w/Andrew. \nPlease use the online form HERE to sign up and include “CISV Philadelphia” in the section asking for “Group or School”. \n  \nOnce your registration is confirmed\, please send an email with the subject line \nCOBBS CREEK to philadelphia@cisvusa.org \nto let us know you will be participating. We would like to try to coordinate a group brunch in the area afterward.
URL:https://philly.cisvusa.org/event/day-of-service-at-cobbs-creek-park-jan-20th-2025/
LOCATION:65th St Cobbs Creek park
END:VEVENT
END:VCALENDAR