BEGIN:VCALENDAR
VERSION:2.0
PRODID:-//Philadelphia - ECPv6.15.20//NONSGML v1.0//EN
CALSCALE:GREGORIAN
METHOD:PUBLISH
X-WR-CALNAME:Philadelphia
X-ORIGINAL-URL:https://philly.cisvusa.org
X-WR-CALDESC:Events for Philadelphia
REFRESH-INTERVAL;VALUE=DURATION:PT1H
X-Robots-Tag:noindex
X-PUBLISHED-TTL:PT1H
BEGIN:VTIMEZONE
TZID:America/New_York
BEGIN:DAYLIGHT
TZOFFSETFROM:-0500
TZOFFSETTO:-0400
TZNAME:EDT
DTSTART:20250309T070000
END:DAYLIGHT
BEGIN:STANDARD
TZOFFSETFROM:-0400
TZOFFSETTO:-0500
TZNAME:EST
DTSTART:20251102T060000
END:STANDARD
BEGIN:DAYLIGHT
TZOFFSETFROM:-0500
TZOFFSETTO:-0400
TZNAME:EDT
DTSTART:20260308T070000
END:DAYLIGHT
BEGIN:STANDARD
TZOFFSETFROM:-0400
TZOFFSETTO:-0500
TZNAME:EST
DTSTART:20261101T060000
END:STANDARD
BEGIN:DAYLIGHT
TZOFFSETFROM:-0500
TZOFFSETTO:-0400
TZNAME:EDT
DTSTART:20270314T070000
END:DAYLIGHT
BEGIN:STANDARD
TZOFFSETFROM:-0400
TZOFFSETTO:-0500
TZNAME:EST
DTSTART:20271107T060000
END:STANDARD
END:VTIMEZONE
BEGIN:VEVENT
DTSTART;TZID=America/New_York:20260228T180000
DTEND;TZID=America/New_York:20260228T200000
DTSTAMP:20260423T161016
CREATED:20260203T150140Z
LAST-MODIFIED:20260203T150140Z
UID:10000197-1772301600-1772308800@philly.cisvusa.org
SUMMARY:Game Night Potluck
DESCRIPTION:Come one and all to a CISV Philly Game Night! This will be at the Heasley’s home (address in our newsletter; we don’t want to put that public on the web) \nBring a new friend\, your favorite game\, a snack to share\, and your competitive spirit! \nThis is a great opportunity to introduce new people to the fun and inclusive spirit of CISV Philadelphia!
URL:https://philly.cisvusa.org/event/game-night-potluck/
END:VEVENT
BEGIN:VEVENT
DTSTART;TZID=America/New_York:20260305T200000
DTEND;TZID=America/New_York:20260305T213000
DTSTAMP:20260423T161016
CREATED:20251108T154306Z
LAST-MODIFIED:20251108T154603Z
UID:10000194-1772740800-1772746200@philly.cisvusa.org
SUMMARY:In Person Chapter Meeting
DESCRIPTION:All current volunteers/chairs & JB board members are encouraged to attend to debrief prior events\, plan for future events\, and facilitate the running of the Philly chapter. We alternate between in-person and virtual meetings each month. \nZoom option is available for all meetings but in person attendance is encouraged.
URL:https://philly.cisvusa.org/event/in-person-chapter-meeting/
LOCATION:https://us06web.zoom.us/j/84425114013?pwd=olotnNI76fgrnZhbuBnfUKdTow0bmy.1
END:VEVENT
BEGIN:VEVENT
DTSTART;VALUE=DATE:20260321
DTEND;VALUE=DATE:20260322
DTSTAMP:20260423T161016
CREATED:20250821T150953Z
LAST-MODIFIED:20260203T145938Z
UID:10000182-1774051200-1774137599@philly.cisvusa.org
SUMMARY:Rescheduled 2026 MLK Day of Service: Cobbs Creek Park Cleanup Mosaic
DESCRIPTION:Every year we join up with the Cobbs Creek Park Ambassadors to honor Dr. Martin Luther King’s Day of Service by collecting trash at Cobbs Creek Park in West Philadelphia. This year\, due to the nutty winter weather\, this event got rescheduled to March 21st\, 9-11am. Afterwards we will head o HMasrt Food Court for lunch and debriefing.
URL:https://philly.cisvusa.org/event/2026-mlk-day-of-service-cobbs-creek-park-cleanup/
ATTACH;FMTTYPE=image/png:https://philly.cisvusa.org/wp-content/uploads/sites/12/2025/02/image-5-e1762555103327.png
END:VEVENT
BEGIN:VEVENT
DTSTART;TZID=America/New_York:20260402T200000
DTEND;TZID=America/New_York:20260402T210000
DTSTAMP:20260423T161016
CREATED:20251108T154214Z
LAST-MODIFIED:20251108T154214Z
UID:10000193-1775160000-1775163600@philly.cisvusa.org
SUMMARY:Virtual Chapter Meeting
DESCRIPTION:All current volunteers/chairs & JB board members are encouraged to attend to debrief prior events\, plan for future events\, and facilitate the running of the Philly chapter. We alternate between in-person and virtual meetings each month. \nZoom option is available for all meetings but in person attendance is encouraged. \nIn Person Dates: \nJanuary 8 \nMarch 5 \nMay 7 \nZoom Only: \nDecember 4 \nFebruary 5 \nApril 2
URL:https://philly.cisvusa.org/event/virtual-chapter-meeting-10-5/
LOCATION:https://us06web.zoom.us/j/84425114013?pwd=olotnNI76fgrnZhbuBnfUKdTow0bmy.1
END:VEVENT
BEGIN:VEVENT
DTSTART;TZID=America/New_York:20260507T200000
DTEND;TZID=America/New_York:20260507T213000
DTSTAMP:20260423T161016
CREATED:20251108T154334Z
LAST-MODIFIED:20251108T154532Z
UID:10000195-1778184000-1778189400@philly.cisvusa.org
SUMMARY:In Person Chapter Meeting
DESCRIPTION:All current volunteers/chairs & JB board members are encouraged to attend to debrief prior events\, plan for future events\, and facilitate the running of the Philly chapter. We alternate between in-person and virtual meetings each month. \nZoom option is available for all meetings but in person attendance is encouraged.
URL:https://philly.cisvusa.org/event/in-person-chapter-meeting-2/
LOCATION:https://us06web.zoom.us/j/84425114013?pwd=olotnNI76fgrnZhbuBnfUKdTow0bmy.1
END:VEVENT
BEGIN:VEVENT
DTSTART;TZID=America/New_York:20260607T120000
DTEND;TZID=America/New_York:20260607T150000
DTSTAMP:20260423T161016
CREATED:20251108T154745Z
LAST-MODIFIED:20251108T154745Z
UID:10000196-1780833600-1780844400@philly.cisvusa.org
SUMMARY:Summer Send Off Potluck
DESCRIPTION:*TENTATIVE DATE*
URL:https://philly.cisvusa.org/event/summer-send-off-potluck-2/
END:VEVENT
END:VCALENDAR